BEGIN:VCALENDAR
VERSION:2.0
PRODID:-//Epsom &amp; Ewell Times - ECPv6.15.20//NONSGML v1.0//EN
CALSCALE:GREGORIAN
METHOD:PUBLISH
X-WR-CALNAME:Epsom &amp; Ewell Times
X-ORIGINAL-URL:https://epsomandewelltimes.com
X-WR-CALDESC:Events for Epsom &amp; Ewell Times
REFRESH-INTERVAL;VALUE=DURATION:PT1H
X-Robots-Tag:noindex
X-PUBLISHED-TTL:PT1H
BEGIN:VTIMEZONE
TZID:UTC
BEGIN:STANDARD
TZOFFSETFROM:+0000
TZOFFSETTO:+0000
TZNAME:UTC
DTSTART:20230101T000000
END:STANDARD
END:VTIMEZONE
BEGIN:VEVENT
DTSTART;TZID=UTC:20240119T193000
DTEND;TZID=UTC:20240119T213000
DTSTAMP:20260424T155229
CREATED:20231125T231821Z
LAST-MODIFIED:20231125T232010Z
UID:8066-1705692600-1705699800@epsomandewelltimes.com
SUMMARY:Band of the Coldstream Guards - Gala Concert
DESCRIPTION:Cllr Graham Jones MBE is delighted to announce the Band of the Coldstream Guards have agreed to perform a Gala Concert at Epsom Playhouse on 19 January 2024 in support of the Mayors Charities and the Royal British Legion Epsom and Ewell.\nThe Coldstream Guards are not only a marching band as they have toured USA\, Japan\, China\, Europe and the UK performing outstanding concerts to packed houses in some of the most prestigious concert halls in the world to critical acclaim.\nThe Band of the Coldstream Guards is\, arguably\, one of the best bands in the world and they’re coming to Epsom Playhouse. Don’t miss this opportunity to hear this magnificent band right here on our own door step.
URL:https://epsomandewelltimes.com/event/band-of-the-coldstream-guards-gala-concert
LOCATION:The Epsom Playhouse\, Ashley Avenue\, Epsom\, Surrey\, United Kingdom
ATTACH;FMTTYPE=image/jpeg:https://epsomandewelltimes.com/wp-content/uploads/2023/11/coldstream_flyer_size.jpg
END:VEVENT
END:VCALENDAR