BEGIN:VCALENDAR
VERSION:2.0
PRODID:-//Epsom &amp; Ewell Times - ECPv6.15.20//NONSGML v1.0//EN
CALSCALE:GREGORIAN
METHOD:PUBLISH
X-ORIGINAL-URL:https://epsomandewelltimes.com
X-WR-CALDESC:Events for Epsom &amp; Ewell Times
REFRESH-INTERVAL;VALUE=DURATION:PT1H
X-Robots-Tag:noindex
X-PUBLISHED-TTL:PT1H
BEGIN:VTIMEZONE
TZID:UTC
BEGIN:STANDARD
TZOFFSETFROM:+0000
TZOFFSETTO:+0000
TZNAME:UTC
DTSTART:20240101T000000
END:STANDARD
END:VTIMEZONE
BEGIN:VEVENT
DTSTART;TZID=UTC:20250416T150000
DTEND;TZID=UTC:20250416T154000
DTSTAMP:20260424T104320
CREATED:20250208T094443Z
LAST-MODIFIED:20250208T094443Z
UID:12322-1744815600-1744818000@epsomandewelltimes.com
SUMMARY:Puss in Boots presented by Let's All Dance Ballet Company
DESCRIPTION:The Let’s All Dance Ballet Company brings a new version of Puss in Boots about a friendship between a magical cat and a young man with a talent for music. Treat your children to the magic of live\, professional dance and fire their imaginations with this lovely new show for the whole family!
URL:https://epsomandewelltimes.com/event/puss-in-boots-presented-by-lets-all-dance-ballet-company
LOCATION:The Epsom Playhouse\, Ashley Avenue\, Epsom\, Surrey\, United Kingdom
ATTACH;FMTTYPE=image/jpeg:https://epsomandewelltimes.com/wp-content/uploads/2025/02/Puss-main-image-sqaure-with-title.jpg
END:VEVENT
END:VCALENDAR