BEGIN:VCALENDAR
VERSION:2.0
PRODID:-//Epsom &amp; Ewell Times - ECPv6.15.20//NONSGML v1.0//EN
CALSCALE:GREGORIAN
METHOD:PUBLISH
X-WR-CALNAME:Epsom &amp; Ewell Times
X-ORIGINAL-URL:https://epsomandewelltimes.com
X-WR-CALDESC:Events for Epsom &amp; Ewell Times
REFRESH-INTERVAL;VALUE=DURATION:PT1H
X-Robots-Tag:noindex
X-PUBLISHED-TTL:PT1H
BEGIN:VTIMEZONE
TZID:UTC
BEGIN:STANDARD
TZOFFSETFROM:+0000
TZOFFSETTO:+0000
TZNAME:UTC
DTSTART:20240101T000000
END:STANDARD
END:VTIMEZONE
BEGIN:VEVENT
DTSTART;TZID=UTC:20250423T193000
DTEND;TZID=UTC:20250423T220000
DTSTAMP:20260424T141423
CREATED:20250208T095235Z
LAST-MODIFIED:20250208T095235Z
UID:12330-1745436600-1745445600@epsomandewelltimes.com
SUMMARY:Far From the Madding Crowd
DESCRIPTION:Far from the Madding Crowd demonstrates live\, vibrant theatre at its very best. Thomas Hardy’s masterpiece about love\, class and gender roles is set against the rural landscape of Victorian England and is thrillingly brought to life in a new adaptation by the acclaimed Conn Artists Theatre Company.
URL:https://epsomandewelltimes.com/event/far-from-the-madding-crowd
LOCATION:The Epsom Playhouse\, Ashley Avenue\, Epsom\, Surrey\, United Kingdom
ATTACH;FMTTYPE=image/jpeg:https://epsomandewelltimes.com/wp-content/uploads/2025/02/Hardy.jpg
END:VEVENT
END:VCALENDAR