BEGIN:VCALENDAR
VERSION:2.0
PRODID:-//Epsom &amp; Ewell Times - ECPv6.15.20//NONSGML v1.0//EN
CALSCALE:GREGORIAN
METHOD:PUBLISH
X-WR-CALNAME:Epsom &amp; Ewell Times
X-ORIGINAL-URL:https://epsomandewelltimes.com
X-WR-CALDESC:Events for Epsom &amp; Ewell Times
REFRESH-INTERVAL;VALUE=DURATION:PT1H
X-Robots-Tag:noindex
X-PUBLISHED-TTL:PT1H
BEGIN:VTIMEZONE
TZID:UTC
BEGIN:STANDARD
TZOFFSETFROM:+0000
TZOFFSETTO:+0000
TZNAME:UTC
DTSTART:20240101T000000
END:STANDARD
END:VTIMEZONE
BEGIN:VEVENT
DTSTART;TZID=UTC:20250424T073000
DTEND;TZID=UTC:20250424T220000
DTSTAMP:20260424T155348
CREATED:20250411T052746Z
LAST-MODIFIED:20250411T052746Z
UID:13070-1745479800-1745532000@epsomandewelltimes.com
SUMMARY:Epsom Jazz Club:  Sam Braysher Quartet feat. Annie Majin.
DESCRIPTION:Annie Majin is a fresh new talent active on the jazz club circuit who recently made her debut on the West End stage. Together with celebrated alto saxophonist Sam Braysher\, Annie will be presenting classic and lesser known items from the American songbook and jazz canon\, including compositions by the likes of George Gershwin\, Rodgers & Hammerstein and Harold Arlen\, as well as songs from Sam’s latest album That’s Him: The Music of Kurt Weill\, which got airplay on Radio 3 and Jazz FM. Annie\, Sam and the band recently presented their Kurt Weill project in London’s Ladbroke Hall. \n  \nLine-up: \n  \nAnnie Majin – vocals \nSam Braysher – alto saxophone \nKate Williams – piano \nTom Farmer – double bass
URL:https://epsomandewelltimes.com/event/epsom-jazz-club-sam-braysher-quartet-feat-annie-majin
LOCATION:Comrades Club\, The Parade\, Epsom\, Surrey\, KT18 5BT\, United Kingdom
ATTACH;FMTTYPE=image/jpeg:https://epsomandewelltimes.com/wp-content/uploads/2025/04/Braysher.jpg
END:VEVENT
END:VCALENDAR