BEGIN:VCALENDAR
VERSION:2.0
PRODID:-//Epsom &amp; Ewell Times - ECPv6.15.20//NONSGML v1.0//EN
CALSCALE:GREGORIAN
METHOD:PUBLISH
X-ORIGINAL-URL:https://epsomandewelltimes.com
X-WR-CALDESC:Events for Epsom &amp; Ewell Times
REFRESH-INTERVAL;VALUE=DURATION:PT1H
X-Robots-Tag:noindex
X-PUBLISHED-TTL:PT1H
BEGIN:VTIMEZONE
TZID:UTC
BEGIN:STANDARD
TZOFFSETFROM:+0000
TZOFFSETTO:+0000
TZNAME:UTC
DTSTART:20240101T000000
END:STANDARD
END:VTIMEZONE
BEGIN:VEVENT
DTSTART;TZID=UTC:20250514T193000
DTEND;TZID=UTC:20250517T223000
DTSTAMP:20260422T172128
CREATED:20250208T094131Z
LAST-MODIFIED:20250208T094131Z
UID:12318-1747251000-1747521000@epsomandewelltimes.com
SUMMARY:Everybody's Talking About Jamie presented by Sutton Theatre Company
DESCRIPTION:Inspired by a heart-warming true story\, this vibrant\, feel-good musical follows Jamie New\, a lad living on a council estate\, whose dream is to become a Drag Queen. This funny and fabulous coming of age musical\, will leave your heart full and everybody talking\, singing and dancing about Jamie!
URL:https://epsomandewelltimes.com/event/everybodys-talking-about-jamie-presented-by-sutton-theatre-company
LOCATION:The Epsom Playhouse\, Ashley Avenue\, Epsom\, Surrey\, United Kingdom
ATTACH;FMTTYPE=image/png:https://epsomandewelltimes.com/wp-content/uploads/2025/02/Instagram-Squares-7.png
END:VEVENT
BEGIN:VEVENT
DTSTART;TZID=UTC:20250517T190000
DTEND;TZID=UTC:20250517T220000
DTSTAMP:20260422T172128
CREATED:20250512T181703Z
LAST-MODIFIED:20250512T181703Z
UID:13327-1747508400-1747519200@epsomandewelltimes.com
SUMMARY:Epsom Male Voice Choir Annual Gala Concert
DESCRIPTION:On Saturday 17 May\, Epsom Male Voice Choir (EMVC) will hold its annual Gala Concert at St Martin of Tour Church in Epsom\, to be attended by the new Mayor\, Cllr Robert Leach. \nThis will be a special event for EMVC because the Musical Director\, Ian Assersohn\, who has directed the choir for 11 years is handing over to the new MD\, Jason Edge. \nThe concert starts at 7.30 PM. For tickets and more information\, see the website. \nEMVC has been singing for 42 years with its unique blend of entertaining and engaging performances of a wide range of music.
URL:https://epsomandewelltimes.com/event/epsom-male-voice-choir-annual-gala-concert
LOCATION:“St Martin of Tours Church House Church Street Epsom Surrey KT17 4PX”\, St Martin of Tours\, Church Street\, Epsom\, KT17 4PX\, United Kingdom
END:VEVENT
END:VCALENDAR