BEGIN:VCALENDAR
VERSION:2.0
PRODID:-//Epsom &amp; Ewell Times - ECPv6.15.20//NONSGML v1.0//EN
CALSCALE:GREGORIAN
METHOD:PUBLISH
X-ORIGINAL-URL:https://epsomandewelltimes.com
X-WR-CALDESC:Events for Epsom &amp; Ewell Times
REFRESH-INTERVAL;VALUE=DURATION:PT1H
X-Robots-Tag:noindex
X-PUBLISHED-TTL:PT1H
BEGIN:VTIMEZONE
TZID:UTC
BEGIN:STANDARD
TZOFFSETFROM:+0000
TZOFFSETTO:+0000
TZNAME:UTC
DTSTART:20240101T000000
END:STANDARD
END:VTIMEZONE
BEGIN:VEVENT
DTSTART;TZID=UTC:20250523T190000
DTEND;TZID=UTC:20250523T223000
DTSTAMP:20260422T172005
CREATED:20250501T113850Z
LAST-MODIFIED:20250501T113955Z
UID:13208-1748026800-1748039400@epsomandewelltimes.com
SUMMARY:Epsom Rotary Club Quiz Night
DESCRIPTION:Further celebrating the 100 years of community service Epsom Rotary are holding a Quiz night with raffle – everyone welcome
URL:https://epsomandewelltimes.com/event/quiz-night-epsom-rotary-club
LOCATION:St Josephs\, St Margarets Drive\, Epsom\, Surrey\, KT18 7JQ\, United Kingdom
END:VEVENT
END:VCALENDAR