BEGIN:VCALENDAR
VERSION:2.0
PRODID:-//Epsom &amp; Ewell Times - ECPv6.15.20//NONSGML v1.0//EN
CALSCALE:GREGORIAN
METHOD:PUBLISH
X-WR-CALNAME:Epsom &amp; Ewell Times
X-ORIGINAL-URL:https://epsomandewelltimes.com
X-WR-CALDESC:Events for Epsom &amp; Ewell Times
REFRESH-INTERVAL;VALUE=DURATION:PT1H
X-Robots-Tag:noindex
X-PUBLISHED-TTL:PT1H
BEGIN:VTIMEZONE
TZID:UTC
BEGIN:STANDARD
TZOFFSETFROM:+0000
TZOFFSETTO:+0000
TZNAME:UTC
DTSTART:20250101T000000
END:STANDARD
END:VTIMEZONE
BEGIN:VEVENT
DTSTART;TZID=UTC:20260422T100000
DTEND;TZID=UTC:20260522T170000
DTSTAMP:20260422T015839
CREATED:20260217T151530Z
LAST-MODIFIED:20260217T151530Z
UID:16138-1776852000-1779469200@epsomandewelltimes.com
SUMMARY:Living Rivers: Free Community Art Exhibition
DESCRIPTION:Welcome to Living Rivers\, a free community art exhibition celebrating our deep connection to rivers and the natural world. \nRivers are the lifeblood of our landscapes\, yet many face pollution and neglect. Inspired by Robert Macfarlanes’s “”Is A River Alive?””\, this community art exhibition brings together local artists\, schools\, and art groups\, including the Royal Marsden and local school\, to celebrate the beauty and importance of our rivers and waterways.  \nExplore a vibrant collection of artwork created by people of all ages from across Epsom and Ewell\, each sharing their own unique take on a river’s story\, magic\, and life-giving energy. \nHow and what to submit\nArtwork size: A4 max\nDrawings or paintings\nContact us if you would like to take part: eeclimateactionnetwork@gmail.com \nKey Dates\nSubmission deadline: 27 March 2026\nCollection: we’ll personally collect all the art work from schools and art groups\nExhibition: 22 Apr – 22 May 2026
URL:https://epsomandewelltimes.com/event/living-rivers-free-community-art-exhibition
LOCATION:Epsom Square\, 1st Floor\, Epsom Square\, Epsom\, Surrey\, KT19 8AG\, United Kingdom
ATTACH;FMTTYPE=image/jpeg:https://epsomandewelltimes.com/wp-content/uploads/2026/02/Living-Rivers-Poster-2026.jpg
END:VEVENT
END:VCALENDAR