BEGIN:VCALENDAR
VERSION:2.0
PRODID:-//Epsom &amp; Ewell Times - ECPv6.15.20//NONSGML v1.0//EN
CALSCALE:GREGORIAN
METHOD:PUBLISH
X-WR-CALNAME:Epsom &amp; Ewell Times
X-ORIGINAL-URL:https://epsomandewelltimes.com
X-WR-CALDESC:Events for Epsom &amp; Ewell Times
REFRESH-INTERVAL;VALUE=DURATION:PT1H
X-Robots-Tag:noindex
X-PUBLISHED-TTL:PT1H
BEGIN:VTIMEZONE
TZID:UTC
BEGIN:STANDARD
TZOFFSETFROM:+0000
TZOFFSETTO:+0000
TZNAME:UTC
DTSTART:20250101T000000
END:STANDARD
END:VTIMEZONE
BEGIN:VEVENT
DTSTART;TZID=UTC:20260516T190000
DTEND;TZID=UTC:20260516T220000
DTSTAMP:20260422T155545
CREATED:20260414T035609Z
LAST-MODIFIED:20260414T035609Z
UID:16749-1778958000-1778968800@epsomandewelltimes.com
SUMMARY:Quiz Night
DESCRIPTION:Family Fun Quiz Night
URL:https://epsomandewelltimes.com/event/quiz-night-5
LOCATION:Christ Church Hall\, Christ Church Road\, Epsom\, Surrey\, KT19 8NE\, United Kingdom
ATTACH;FMTTYPE=image/jpeg:https://epsomandewelltimes.com/wp-content/uploads/2026/04/Quiz-Night-Flier-16th-May-2026-v2.jpg
END:VEVENT
BEGIN:VEVENT
DTSTART;TZID=UTC:20260516T193000
DTEND;TZID=UTC:20260516T215000
DTSTAMP:20260422T155545
CREATED:20260417T155338Z
LAST-MODIFIED:20260417T155338Z
UID:16810-1778959800-1778968200@epsomandewelltimes.com
SUMMARY:Gala Concert
DESCRIPTION:Enjoy a wonderful evening of song presented by one of the leading male voice choirs in S.E. England at Epsom Playhouse on May 16th at 7:30PM\nThe program will include a wide range of music encompassing traditional male voice choir standards\, arrangements of popular music\, well known rock ballads\, show tunes\nand specially composed music – some of it written for the choir.\nOur special guests this year will be the Choir of Laine Theatre Arts\nTickets from www.epsommalevoicechoir.org
URL:https://epsomandewelltimes.com/event/gala-concert
LOCATION:The Epsom Playhouse\, Ashley Avenue\, Epsom\, Surrey\, United Kingdom
ATTACH;FMTTYPE=image/jpeg:https://epsomandewelltimes.com/wp-content/uploads/2026/04/EMVC-flyer-May-26.jpg
END:VEVENT
BEGIN:VEVENT
DTSTART;TZID=UTC:20260523T193000
DTEND;TZID=UTC:20260523T203000
DTSTAMP:20260422T155545
CREATED:20260313T042827Z
LAST-MODIFIED:20260313T042827Z
UID:16391-1779564600-1779568200@epsomandewelltimes.com
SUMMARY:Surrey Philharmonic Orchestra Concert 23 May 2026
DESCRIPTION:Save the date for the next concert from the Surrey Philharmonic Orchestra. Join us at the Ashtead Peace Memorial Hall on Saturday 23 May at 7.30pm. \nWe begin with Schubert’s Overture in D\, In the Italian Style\, composed in 1817.  \nSoloist\, Nicola Baigent\, will then give us Glazunov’s Concerto for Alto Saxophone & string orchestra & Tartini’s Concerto for Clarinet & strings.  \nWe finish with Mendelssohn’s wonderful 4th\, or Italian symphony\, inspired by the composer’s trips to Italy.
URL:https://epsomandewelltimes.com/event/surrey-philharmonic-orchestra-concert-23-may-2026
LOCATION:Ashtead Peace Memorial Hall\, The Street\, Ashtead\, Surrey\, KT21 2BE\, United Kingdom
ATTACH;FMTTYPE=image/png:https://epsomandewelltimes.com/wp-content/uploads/2026/03/Surrey-Phil-May-2026.png
END:VEVENT
BEGIN:VEVENT
DTSTART;TZID=UTC:20260530T100000
DTEND;TZID=UTC:20260530T163000
DTSTAMP:20260422T155545
CREATED:20260327T052525Z
LAST-MODIFIED:20260327T052525Z
UID:16579-1780135200-1780158600@epsomandewelltimes.com
SUMMARY:Fall in Love with the Future
DESCRIPTION:A workshop-with-a-difference which will guide us in imagining the type of future we’d like to be part\, and how to get there. Best-selling author Rob Hopkins (founder of Transition Totnes) leads us playfully in ‘Imagination Training’. \nThe event is open to anyone: members of local sustainability groups\, teachers/lecturers\, town councils\, local businesses\, in fact\, anyone with an interest in looking in a new way at future possibilities in building networks and connections with fellow residents and community groups. It’s a day for people from all parts of the local community – the more ‘cross-pollination’ the better.
URL:https://epsomandewelltimes.com/event/fall-in-love-with-the-future
LOCATION:St Martin’s Church\, Church Street\, Epsom\, Surrey\, KT17 4PX
END:VEVENT
END:VCALENDAR