BEGIN:VCALENDAR
VERSION:2.0
PRODID:-//Epsom &amp; Ewell Times - ECPv6.15.20//NONSGML v1.0//EN
CALSCALE:GREGORIAN
METHOD:PUBLISH
X-ORIGINAL-URL:https://epsomandewelltimes.com
X-WR-CALDESC:Events for Epsom &amp; Ewell Times
REFRESH-INTERVAL;VALUE=DURATION:PT1H
X-Robots-Tag:noindex
X-PUBLISHED-TTL:PT1H
BEGIN:VTIMEZONE
TZID:UTC
BEGIN:STANDARD
TZOFFSETFROM:+0000
TZOFFSETTO:+0000
TZNAME:UTC
DTSTART:20220101T000000
END:STANDARD
END:VTIMEZONE
BEGIN:VEVENT
DTSTART;TZID=UTC:20231006T180000
DTEND;TZID=UTC:20231008T170000
DTSTAMP:20260423T121811
CREATED:20230913T155948Z
LAST-MODIFIED:20230913T160256Z
UID:7340-1696615200-1696784400@epsomandewelltimes.com
SUMMARY:Art Surrey Art Fair
DESCRIPTION:Let your creative senses be tingled from the moment you arrive as Art Surrey offers art lovers and collectors the chance to browse and purchase artworks from over 80 of the most exciting contemporary and traditional artists selling today. \nCurated by Art Surrey and Caiger Art to include established and emerging independent artists specialising in: Painting\, Digital Art\, Mixed Media Art\, Photography\, Sculpture\, Glassworks and Ceramics. With more than 3000 artworks ranging from £50 to over £3000\, there will be something for everyone! \nBuy tickets from https://artsurrey.co.uk/tickets/ \nPreview Evening\nFriday 6th October: 6.00pm – 9.00pm – £12 per person\n(Ticket includes complimentary fizz on the Friday evening and unlimited weekend entry) \nPublic Open Days\nSaturday 7th October: 10am – 6pm – £6 per person\nSunday 8th October: 10am – 5pm – £6 per person\n(Free weekend entry for children under 16 and £4 weekend concession for OAP’s on the door) \nAdvance tickets can be purchased from our ticket service provider EVENTBRITE\, or on the door at the event
URL:https://epsomandewelltimes.com/event/art-surrey-art-fair
LOCATION:The Duchess Stand\, Epsom Downs Racecourse\, Epsom\, Surrey\, KT18 5LQ\, United Kingdom
ATTACH;FMTTYPE=image/jpeg:https://epsomandewelltimes.com/wp-content/uploads/2023/09/Art-Surrey.jpg
END:VEVENT
BEGIN:VEVENT
DTSTART;TZID=UTC:20231010T190000
DTEND;TZID=UTC:20231010T223000
DTSTAMP:20260423T121811
CREATED:20230913T055736Z
LAST-MODIFIED:20230913T055736Z
UID:7296-1696964400-1696977000@epsomandewelltimes.com
SUMMARY:Mayor's Charities Curry Night
DESCRIPTION:A fundraising event in support of the Epsom & Ewell Mayor’s Charities 2023:\nAge Concern Epsom & Ewell\nLove Me Love My Mind\ncitizens advice Epsom & Ewell \nA buffet dinner \, bring your own bottle(s) \nTickets £30 each
URL:https://epsomandewelltimes.com/event/mayors-charities-curry-night
LOCATION:Tamarind Spice\, 234/236 Chessington Road\, Ewell\, Surrey\, KT19 9XF
ATTACH;FMTTYPE=image/jpeg:https://epsomandewelltimes.com/wp-content/uploads/2023/09/CurryFlyer-1.jpg
END:VEVENT
BEGIN:VEVENT
DTSTART;TZID=UTC:20231010T193000
DTEND;TZID=UTC:20231010T220000
DTSTAMP:20260423T121811
CREATED:20230817T094241Z
LAST-MODIFIED:20230817T094241Z
UID:7175-1696966200-1696975200@epsomandewelltimes.com
SUMMARY:Epsom Jazz Club - Fraser Smith Quartet
DESCRIPTION:Playing at Epsom Jazz Club this October – quite simply an all-star lineup of UK Jazz musicians. \nSaxophonist Fraser Smith has brought together some of the best on the scene; Steve Brown on drums\, Rob Barron on keys and Simon Read on bass. \nIn 2022 they recorded an album together\, primarily comprised of Fraser own compositions\, and in April 2023 released “TipTop!” to huge acclaim. \nAn album launch at Pizza Express Soho commenced a tour across the UK\, and now for the Autumn leg of the tour – we can’t wait! \nAnother not-to-be-missed evening of Jazz in the calendar.
URL:https://epsomandewelltimes.com/event/epsom-jazz-club-fraser-smith-quartet
LOCATION:The Oaks Room\, In the Conservative Club\, 39 Church St.\, Epsom\, Surrey\, KT17 4PW
ATTACH;FMTTYPE=image/jpeg:https://epsomandewelltimes.com/wp-content/uploads/2023/08/Jazz-2023-10-10-FSQ-1x1-insta-a-post-1-Tuesday-900x900-1.jpg
END:VEVENT
BEGIN:VEVENT
DTSTART;TZID=UTC:20231014T140000
DTEND;TZID=UTC:20231014T153000
DTSTAMP:20260423T121811
CREATED:20230720T145311Z
LAST-MODIFIED:20230720T145311Z
UID:6937-1697292000-1697297400@epsomandewelltimes.com
SUMMARY:AROUND THE WORLD IN 80 CHURCHES - talk
DESCRIPTION:£7 SCPT members\, otherwise £10\n£5 per person for groups of four or more \nAn illustrated talk by Andrew Plumridge\, architect and trustee \nAndrew attributes his love of churches to his time spent pumping air into the old organ at Burpham Church\, earning ten bob a time for weddings and nothing on Sundays. “When you’re pumping that lever up and down\,” he says\, “you have plenty of time to enjoy the architecture and pray for electrification!” \nAfter graduating as an architect he first took on the role of Special Projects Surveyor to the Cathedrals Advisory Commission\, working at Wells\, Exeter\, Lincoln and York\, before serving as architect to the dioceses of Oxford\, Winchester\, Guildford and Salisbury. He served as architect advisor to the Berkshire Churches Trust for 27 years and became a trustee to the Surrey Churches Preservation Trust in 1998. \nAlthough best known as an expert on architectural follies\, his talk will take us on a tour of amazing churches from around the world and some of the extraordinary man-made monuments to God. \nAll funds raised from Andrew’s talk will help Surrey’s church buildings via conservation grants made by the Surrey Churches Preservation Trust\, a registered charity run 100% by volunteers. We are looking for volunteers and trustees.
URL:https://epsomandewelltimes.com/event/around-the-world-in-80-churches-talk
LOCATION:Ruxley Church\, Ruxley Lane\, Ewell\, KT19 0AF\, United Kingdom
ATTACH;FMTTYPE=image/jpeg:https://epsomandewelltimes.com/wp-content/uploads/2023/07/Ruxley-Church-event.jpg
END:VEVENT
BEGIN:VEVENT
DTSTART;TZID=UTC:20231014T163000
DTEND;TZID=UTC:20231014T173000
DTSTAMP:20260423T121811
CREATED:20230929T064859Z
LAST-MODIFIED:20230929T064859Z
UID:7563-1697301000-1697304600@epsomandewelltimes.com
SUMMARY:Nettle and Markham Piano Duo
DESCRIPTION:Making a very welcome return to the concert series at St Martin’s Church are not only the international pianists David Nettle and Richard Markham but also their rare and remarkable Pleyel Double Piano. They will be performing some exquisite French music that was written for this ‘push me pull you’ beast of the musical world. Their Saturday afternoon concert is a prelude to a week of recording an album in the church which they favour for its excellent acoustics. Drinks will be served after the concert which lasts about an hour. Admission is by donation.
URL:https://epsomandewelltimes.com/event/nettle-and-markham-piano-duo
LOCATION:St Martins\, Church Street\, Epsom\, Surrey\, KT17 4PX\, United Kingdom
ATTACH;FMTTYPE=image/jpeg:https://epsomandewelltimes.com/wp-content/uploads/2023/09/Nettle-and-Markham-Oct-23.jpg
END:VEVENT
BEGIN:VEVENT
DTSTART;TZID=UTC:20231028T193000
DTEND;TZID=UTC:20231028T213000
DTSTAMP:20260423T121811
CREATED:20231022T094236Z
LAST-MODIFIED:20231022T094236Z
UID:7737-1698521400-1698528600@epsomandewelltimes.com
SUMMARY:Evening Meditations
DESCRIPTION:CONTEMPLATIVE MUSIC FOR CHOIR AND SAXOPHONE\nEpsom Chamber Choir are eagerly looking forward to their first concert programmed and directed by new conductor Jack Apperley. \nPresenting an intriguing combination of pieces for choir and saxophone\, the centrepiece of the first half is a series of ‘nocturnes’ arranged by Christian Forshaw. Their guest saxophonist Naomi Sullivan will also join the choir in works by James MacMillan and Will Todd. In addition\, the programme includes music from composers Paul Mealor\, Gail Randall and Cecilia McDowall with the second part of the concert devoted to the contemplative and much-loved Requiem by Herbert Howells.
URL:https://epsomandewelltimes.com/event/evening-meditations
LOCATION:St Martins\, Church Street\, Epsom\, Surrey\, KT17 4PX\, United Kingdom
ATTACH;FMTTYPE=image/jpeg:https://epsomandewelltimes.com/wp-content/uploads/2023/10/ECC-October-2023-v3-front.jpg
END:VEVENT
END:VCALENDAR