BEGIN:VCALENDAR
VERSION:2.0
PRODID:-//Epsom &amp; Ewell Times - ECPv6.15.20//NONSGML v1.0//EN
CALSCALE:GREGORIAN
METHOD:PUBLISH
X-ORIGINAL-URL:https://epsomandewelltimes.com
X-WR-CALDESC:Events for Epsom &amp; Ewell Times
REFRESH-INTERVAL;VALUE=DURATION:PT1H
X-Robots-Tag:noindex
X-PUBLISHED-TTL:PT1H
BEGIN:VTIMEZONE
TZID:UTC
BEGIN:STANDARD
TZOFFSETFROM:+0000
TZOFFSETTO:+0000
TZNAME:UTC
DTSTART:20220101T000000
END:STANDARD
END:VTIMEZONE
BEGIN:VEVENT
DTSTART;TZID=UTC:20231103T193000
DTEND;TZID=UTC:20231103T223000
DTSTAMP:20260422T172049
CREATED:20231003T150637Z
LAST-MODIFIED:20231003T150637Z
UID:7590-1699039800-1699050600@epsomandewelltimes.com
SUMMARY:Quiz Night
DESCRIPTION:A fabulous Quiz Night to raise funds for Age Concern Epsom & Ewell\nNot a whizz with a quiz? It really doesn’t matter as our wonderful quizmaster\, Eber Kington\, will provide a highly entertaining evening for all to enjoy.\nGather your team of 6 or book individually and we’ll include you in a group.\nSlices of pizza\, nibbles and a drink included in the ticket price.
URL:https://epsomandewelltimes.com/event/quiz-night
LOCATION:The Conservative Club\, 39 Church Street\, Epsom\, Surrey\, KT17 4PW\, United Kingdom
ATTACH;FMTTYPE=image/jpeg:https://epsomandewelltimes.com/wp-content/uploads/2023/10/Quiz-Night.jpg
END:VEVENT
BEGIN:VEVENT
DTSTART;TZID=UTC:20231104T110000
DTEND;TZID=UTC:20231104T124500
DTSTAMP:20260422T172049
CREATED:20231004T151559Z
LAST-MODIFIED:20231004T151559Z
UID:7601-1699095600-1699101900@epsomandewelltimes.com
SUMMARY:Ashley Road WWII Air Raid Shelter - Underground Tunnel Tour
DESCRIPTION:Join us in Epsom to venture underground on torchlit tours to explore amazing hidden wartime air raid shelter tunnels! Find out the mystery surrounding the first building of the shelter and how Epsom Council created the Ashley Road Deep Level municipal air raid shelter to attempt to protect the citizens of the sleepy suburbs from Luftwaffe attack during the Second World War. Constructed 50 ft underground\, the tunnels provided shelter to 1\,500 people. The last of Epsom’s air raid shelters which remains accessible. Spaces limited. For full details and bookings visit website.
URL:https://epsomandewelltimes.com/event/ashley-road-wwii-air-raid-shelter-underground-tunnel-tour
LOCATION:Surrey
ATTACH;FMTTYPE=image/jpeg:https://epsomandewelltimes.com/wp-content/uploads/2023/10/Ashley-Road-2.jpg
END:VEVENT
BEGIN:VEVENT
DTSTART;TZID=UTC:20231104T140000
DTEND;TZID=UTC:20231104T170000
DTSTAMP:20260422T172049
CREATED:20231031T092557Z
LAST-MODIFIED:20231031T092557Z
UID:7834-1699106400-1699117200@epsomandewelltimes.com
SUMMARY:FREE CONCERT - Love Without Labels
DESCRIPTION:An event to celebrate and support LGBTQ+ people in the community. Music\, art and mental health.
URL:https://epsomandewelltimes.com/event/free-concert-love-without-labels
LOCATION:Bourne Hall\, Spring Street\, Ewell\, Surrey\, KT17 1UF\, United Kingdom
ATTACH;FMTTYPE=image/jpeg:https://epsomandewelltimes.com/wp-content/uploads/2023/10/Bourne-Hall-event_A4-flyer-copy.jpg
ORGANIZER;CN="End Stigma Surrey":MAILTO:info@endstigmasurrey.org.uk
END:VEVENT
BEGIN:VEVENT
DTSTART;TZID=UTC:20231104T193000
DTEND;TZID=UTC:20231104T213000
DTSTAMP:20260422T172049
CREATED:20230925T153334Z
LAST-MODIFIED:20230925T153434Z
UID:7513-1699126200-1699133400@epsomandewelltimes.com
SUMMARY:Petite Messe Solennelle by Rossini
DESCRIPTION:Ashtead Choral Society performs Petite Messe Solennelle by Rossini \nSaturday 4th November 2023\, 7:30 pm – 9.45pm \nSt Martin’s Church\, Epsom\, KT17 4PX \nConducted by Andrew Storey\, with soloists Lucy Cox (soprano)\, Susan Legg (alto)\, Adam Tunnicliffe (tenor)\, Philip Tebb (bass)\, accompanied on two pianos and harmonium by Stephen Ridge (piano)\, Simon Phillips (piano) and \n\n\nLucy Morrell (harmonium). \nIronically\, Rossini’s Petite Messe Solennelle (Small Solemn Mass)\, is neither small nor particularly solemn! A naturally witty composer\, it was entirely characteristic of Rossini to play with his audience’s expectations in this way. Most famous for his 39 operas\, it might also be no surprise that\, in this ostensibly religious piece\, the vocal writing is unashamedly operatic. \nIn this\, the great composer’s final work\, the music ranges from hushed intensity to boisterous high spirits and abounds with the memorable tunes and rhythmic vitality for which Rossini became justly famous. It is a heart-warming and celebratory piece\, bursting with humour\, charm and sincerity. \nTickets £18 in advance\, £20 on the door\, £9 under 25s. TICKETS INCLUDE PROGRAMME. Book online at: \nhttps://www.ticketsource.co.uk/ashteadchoralsociety/t-vvzdnpx \nor via: \nhttps://ashteadchoralsociety.org.uk \nby phone: TicketSource 03336663366 (£2 fee applies)
URL:https://epsomandewelltimes.com/event/petite-messe-solennelle-by-rossini
LOCATION:St Martins\, Church Street\, Epsom\, Surrey\, KT17 4PX\, United Kingdom
ATTACH;FMTTYPE=image/jpeg:https://epsomandewelltimes.com/wp-content/uploads/2023/09/Petite-Messe-Solennelle_Poster_FINAL-Amend_600x848.jpg
END:VEVENT
BEGIN:VEVENT
DTSTART;TZID=UTC:20231107T193000
DTEND;TZID=UTC:20231107T220000
DTSTAMP:20260422T172049
CREATED:20230817T094550Z
LAST-MODIFIED:20230817T094550Z
UID:7178-1699385400-1699394400@epsomandewelltimes.com
SUMMARY:Epsom Jazz Club - Giacomo Smith: Trav'lin Light
DESCRIPTION:For their Autumn Season finale\, Epsom Jazz Club welcome Italian-American composer\, producer and mighty fine reed man\, Giacomo Smith. \nKnown for his work as the founder of influential UK band Kansas Smitty’s\, honing Smitty’s sound over five acclaimed studio albums\, Giacomo has also amassed numerous years of touring across the EU and US. \nFor this very special performance he will be presenting “Trav’lin Light”\, a brand new project which sets out to explore the under travelled land of “folk-jazz”\, a term coined by one of his inspirations\, clarinettist\, Jimmy Giuffre. \nA truly fantastic evening of music.
URL:https://epsomandewelltimes.com/event/epsom-jazz-club-giacomo-smith-travlin-light
LOCATION:The Oaks Room\, In the Conservative Club\, 39 Church St.\, Epsom\, Surrey\, KT17 4PW
ATTACH;FMTTYPE=image/jpeg:https://epsomandewelltimes.com/wp-content/uploads/2023/08/Jazz-2023-11-07-GSTL-1x1-insta-a-post-1-Tuesday-900x900-1.jpg
END:VEVENT
BEGIN:VEVENT
DTSTART;TZID=UTC:20231108T113000
DTEND;TZID=UTC:20231108T133000
DTSTAMP:20260422T172049
CREATED:20231026T105401Z
LAST-MODIFIED:20231026T105401Z
UID:7818-1699443000-1699450200@epsomandewelltimes.com
SUMMARY:East Surrey Poverty Truth Commission Launch
DESCRIPTION:The launch of the East Surrey Poverty Truth Commission is open to any organisations or individuals who are concerned about the rising number of local residents who are struggling financially and want to do something about it. \nThis is a unique opportunity to hear from people with experience of living on a low income\, and to explore how we can all work together to tackle poverty and reduce the need for the Foodbank.
URL:https://epsomandewelltimes.com/event/east-surrey-poverty-truth-commission-launch
LOCATION:Bourne Hall\, Spring Street\, Ewell\, Surrey\, KT17 1UF\, United Kingdom
ATTACH;FMTTYPE=image/png:https://epsomandewelltimes.com/wp-content/uploads/2023/10/PTC-icon.png
END:VEVENT
BEGIN:VEVENT
DTSTART;TZID=UTC:20231111T180000
DTEND;TZID=UTC:20231111T213000
DTSTAMP:20260422T172049
CREATED:20231025T115455Z
LAST-MODIFIED:20231025T115607Z
UID:7790-1699725600-1699738200@epsomandewelltimes.com
SUMMARY:Ukraine Social and Music Evening
DESCRIPTION:Come and join Ukrainians and their hosts in an evening of “bring and share” food and provided soft drinks. All followed by an hour of superb musical and poetic performances from our Ukrainian friends in the locality. \nEntry is free to all. A donation to our collection at the end of the evening is welcome to help us support Ukrainian refugee musicians. \nA friendly welcome atmosphere in the Worship Area of Epsom Methodist Church in the centre of Epsom. \nBrought to you by the charities Epsom Music\, Epsom Refugee Network and Surrey Stands With Ukraine. \n  \n  \n 
URL:https://epsomandewelltimes.com/event/ukraine-social-and-music-evening
LOCATION:Epsom Methodist Church\, Ashley Road\, Epsom\, Surrey\, KT18 5AQ\, United Kingdom
ATTACH;FMTTYPE=image/png:https://epsomandewelltimes.com/wp-content/uploads/2023/10/Ukraine-music-eve.png
END:VEVENT
BEGIN:VEVENT
DTSTART;TZID=UTC:20231118T193000
DTEND;TZID=UTC:20231118T213000
DTSTAMP:20260422T172049
CREATED:20230922T161356Z
LAST-MODIFIED:20230922T161356Z
UID:7469-1700335800-1700343000@epsomandewelltimes.com
SUMMARY:Elijah
DESCRIPTION:Epsom Choral Society sings Mendelssohn’s great oratorio\, Elijah\, with outstanding soloists and orchestra in St Martin’s Church in Epsom on Saturday 18th November 2023 at 7:30pm. \nFirst performed in 1846 at Birmingham Town Hall\, Mendelssohn’s Elijah is widely regarded as one of the greatest oratorios of the Romantic era. Inspired by the biblical account of the prophet Elijah\, the oratorio was composed in the spirit of Mendelssohn’s baroque predecessors\, Bach and Handel. \nUnder the baton of Julian Collings\, the performance will bring together a stellar cast of soloists\, including soprano Elizabeth Findon\, mezzo-soprano Judy Brown\, tenor John Findon\, and bass James Geidt.
URL:https://epsomandewelltimes.com/event/elijah
LOCATION:St Martins\, Church Street\, Epsom\, Surrey\, KT17 4PX\, United Kingdom
ATTACH;FMTTYPE=image/jpeg:https://epsomandewelltimes.com/wp-content/uploads/2023/09/Elijah-flyer_A5_highres-e1700810403402.jpg
END:VEVENT
BEGIN:VEVENT
DTSTART;TZID=UTC:20231121T120000
DTEND;TZID=UTC:20231121T160000
DTSTAMP:20260422T172049
CREATED:20231120T092653Z
LAST-MODIFIED:20231120T092653Z
UID:8014-1700568000-1700582400@epsomandewelltimes.com
SUMMARY:Sale of Hand Knitwear\, Christmas cards\, etc
DESCRIPTION:Sales will be held to raise money for a laser which will help remove bladder cancer at Epsom General Hospital. Handmade woolly hats\, gloves\, jumpers\, babywear\, scarves\, baby shawls\, knee blankets\, shawls\, recycled Christmas cards\, soft toys and other miscellaneous items. Will you help us raise £10\,000 with your support on Tuesday\, 21st November?
URL:https://epsomandewelltimes.com/event/sale-of-hand-knitwear-christmas-cards-etc
LOCATION:Station Pub\, Stoneleigh Broadway\, Ewell\, Surrey\, KT19 2JA\, Station Pub\, Stoneleigh Broadway\, Ewell\, Surrey\, KT19 2JA\, United Kingdom
END:VEVENT
BEGIN:VEVENT
DTSTART;TZID=UTC:20231125T100000
DTEND;TZID=UTC:20231125T140000
DTSTAMP:20260422T172049
CREATED:20231020T044552Z
LAST-MODIFIED:20231020T044552Z
UID:7721-1700906400-1700920800@epsomandewelltimes.com
SUMMARY:Christmas Fair
DESCRIPTION:Craft stalls\, children’s activities\, model railway\, books\, CDs\, Christmas decorations\, refreshments & BBQ! All in the lovely surrounds of Epsom’s largest historic building.
URL:https://epsomandewelltimes.com/event/christmas-fair
LOCATION:St Martins\, Church Street\, Epsom\, Surrey\, KT17 4PX\, United Kingdom
ATTACH;FMTTYPE=image/jpeg:https://epsomandewelltimes.com/wp-content/uploads/2023/10/Christmas-Fair-St-Martins-25Nov23.jpg
END:VEVENT
BEGIN:VEVENT
DTSTART;TZID=UTC:20231127T170000
DTEND;TZID=UTC:20231214T200000
DTSTAMP:20260422T172049
CREATED:20231123T022611Z
LAST-MODIFIED:20231123T113655Z
UID:8044-1701104400-1702584000@epsomandewelltimes.com
SUMMARY:Community Christmas Post
DESCRIPTION:7th Epsom (Methodist) Scouts are once again providing a local delivery service for Christmas Cards in the Epsom area (KT17\, KT18\, KT19\, and KT21 post codes). Price is just 50p per card. Post boxes will be in place from 28th November in over 20 locations; see our web site for details
URL:https://epsomandewelltimes.com/event/community-christmas-post
LOCATION:Epsom Methodist Church\, Ashley Road\, Epsom\, Surrey\, KT18 5AQ\, United Kingdom
ATTACH;FMTTYPE=image/jpeg:https://epsomandewelltimes.com/wp-content/uploads/2023/11/Christmas23-Post-colA5-2a.jpeg
END:VEVENT
END:VCALENDAR