BEGIN:VCALENDAR
VERSION:2.0
PRODID:-//Epsom &amp; Ewell Times - ECPv6.15.20//NONSGML v1.0//EN
CALSCALE:GREGORIAN
METHOD:PUBLISH
X-ORIGINAL-URL:https://epsomandewelltimes.com
X-WR-CALDESC:Events for Epsom &amp; Ewell Times
REFRESH-INTERVAL;VALUE=DURATION:PT1H
X-Robots-Tag:noindex
X-PUBLISHED-TTL:PT1H
BEGIN:VTIMEZONE
TZID:UTC
BEGIN:STANDARD
TZOFFSETFROM:+0000
TZOFFSETTO:+0000
TZNAME:UTC
DTSTART:20240101T000000
END:STANDARD
END:VTIMEZONE
BEGIN:VEVENT
DTSTART;TZID=UTC:20250504T100000
DTEND;TZID=UTC:20250505T170000
DTSTAMP:20260422T172054
CREATED:20250501T114712Z
LAST-MODIFIED:20250501T114712Z
UID:13212-1746352800-1746464400@epsomandewelltimes.com
SUMMARY:The Nonsuch Country Show
DESCRIPTION:Join us this year at the Nonsuch Country Show\, hosted at the stunning Nonsuch Park going \ninto its sixteenth year! \nThis year’s event promises a bank holiday extravaganza filled with something for the entire \nfamily to enjoy. \nHighlights of the show include thrilling attractions such as Jonathan Marshall from Game of\nThrones showcasing his falconry on horseback\, the impressive Flyin Ryan Stunt Show as\nwell as BMX Stunt Displays\, the captivating Dog and Duck Show\, and Ariel tumbling club.\nExperience the elegance of The Spotty Boys Ponies\, along with extraordinary falconry\ndisplays by Angie and Rick\, who will also feature a remarkable static display of birds for you \nto meet and SO much more!
URL:https://epsomandewelltimes.com/event/the-nonsuch-country-show
LOCATION:Nonsuch Park\, London Road\, Ewell\, Surrey\, KT17 2DL\, United Kingdom
END:VEVENT
BEGIN:VEVENT
DTSTART;TZID=UTC:20250506T140000
DTEND;TZID=UTC:20250506T150000
DTSTAMP:20260422T172054
CREATED:20250501T114833Z
LAST-MODIFIED:20250501T114833Z
UID:13215-1746540000-1746543600@epsomandewelltimes.com
SUMMARY:Put a spring in your step & prevent Osteoporosis
DESCRIPTION:Join other seniors protecting their bones at the Osteoporosis & Osteoarthritis Prevention & Survival classes to reduce your risk of breaks and fractures. \nClasses cost from £8.75 when doing a block booking\, and are held every Tuesday at 2pm in the Youth Hall at Epsom Methodist Church. \nCome and join us or call Karen to find out more on 07771647 132 or email oops.esb@gmail.com.
URL:https://epsomandewelltimes.com/event/put-a-spring-in-your-step-prevent-osteoporosis
LOCATION:Online\, United Kingdom
END:VEVENT
BEGIN:VEVENT
DTSTART;TZID=UTC:20250508T140000
DTEND;TZID=UTC:20250508T163000
DTSTAMP:20260422T172054
CREATED:20250424T144641Z
LAST-MODIFIED:20250424T144641Z
UID:13159-1746712800-1746721800@epsomandewelltimes.com
SUMMARY:VE Day celebrations at Appleby House\, Epsom
DESCRIPTION:An Epsom care home is opening its doors to the community to mark 80 years since the end of World War II. \nOn Thursday 8th May\, from 2pm-4.30pm\, Care UK’s Appleby House\, on Longmead Road\, is welcoming local people to honour the 80th anniversary of VE Day with its very own 1940s-themed celebration. \nTeam members and residents will turn back the clock as they dress in 1940s themed attire\, while vintage singer Amy Putt will get everyone’s toes tapping with songs from the wartime era. Traditional buffet-style refreshments\, including finger foods\, Victoria sponge cake and tea and coffee\, will also be available for guests to indulge in. \nTo find out more\, visit careuk.com/appleby-house
URL:https://epsomandewelltimes.com/event/ve-day-celebrations-at-appleby-house-epsom
LOCATION:Appleby House\, Longmead Road\, Epsom\, Surrey\, KT19 9RX\, United Kingdom
ATTACH;FMTTYPE=image/jpeg:https://epsomandewelltimes.com/wp-content/uploads/2025/04/Residents-at-Appleby-House-are-all-set-to-celebrate-the-80th-anniversary-of-VE-Day.jpg
END:VEVENT
BEGIN:VEVENT
DTSTART;TZID=UTC:20250510T160000
DTEND;TZID=UTC:20250510T180000
DTSTAMP:20260422T172054
CREATED:20250423T140927Z
LAST-MODIFIED:20250423T140927Z
UID:13130-1746892800-1746900000@epsomandewelltimes.com
SUMMARY:What happened to our Surrey Elections 2025?
DESCRIPTION:Interested or worried about the changes being made to local government? Join us to find out how they will affect you. With panellists:\n– Caroline Dibden\, Community Planning Alliance\n– Andy Smith\, Campaign to Protect Rural England\n– Jonathan Essex\, Green Party Councillor\, Redhill East\nThe event is free but donations are welcome and we encourage you to buy food and drink. Afterwards there will be a social and a “Drop Beats\, Not Bombs\, DJ night with local DJ’s Boy-Anna and Botchit
URL:https://epsomandewelltimes.com/event/what-happened-to-our-surrey-elections-2025
LOCATION:Greenwise\, 74 The Street\, Ashtead\, Surrey\, KT21 1AW\, United Kingdom
END:VEVENT
BEGIN:VEVENT
DTSTART;TZID=UTC:20250510T190000
DTEND;TZID=UTC:20250510T230000
DTSTAMP:20260422T172054
CREATED:20250423T141234Z
LAST-MODIFIED:20250423T141234Z
UID:13135-1746903600-1746918000@epsomandewelltimes.com
SUMMARY:Drop Beats ! Not Bombs ! DJ Night @ Greenwise\, Ashtead
DESCRIPTION:DJ Night with local DJ’s Boy-anna and Botchit
URL:https://epsomandewelltimes.com/event/drop-beats-not-bombs-dj-night-greenwise-ashtead
LOCATION:Greenwise\, 74 The Street\, Ashtead\, Surrey\, KT21 1AW\, United Kingdom
END:VEVENT
BEGIN:VEVENT
DTSTART;TZID=UTC:20250510T193000
DTEND;TZID=UTC:20250510T213000
DTSTAMP:20260422T172054
CREATED:20250428T044201Z
LAST-MODIFIED:20250428T044201Z
UID:13196-1746905400-1746912600@epsomandewelltimes.com
SUMMARY:Tango - & all that Jazz
DESCRIPTION:Get your feet tapping with the rhythms of the Epsom Symphony Orchestra’s Tango…and all that jazz!  Featuring three compositions from Gershwin\, including his iconic Rapsody in Blue which combines elements of classical music with jazz-influenced effects. Our soloist is international prize winning\, London born pianist J P Ekins.\n\nChanging the tempo\, Piazzolla’s Soledad brings classical influences to the tango\, while his Libertango revolutionised tango music with the incorporation of elements of jazz and classical music to a traditional tango composition.\n\nMarquez’s Danzon no. 2 is likely the most famous Mexican orchestral composition outside of Mexico. Its rhythms & melodie’s can be heard in popular Cuban salsa and Jazz.
URL:https://epsomandewelltimes.com/event/tango-all-that-jazz
LOCATION:The Epsom Playhouse\, Ashley Avenue\, Epsom\, Surrey\, United Kingdom
ATTACH;FMTTYPE=image/png:https://epsomandewelltimes.com/wp-content/uploads/2025/04/ESO-10th-May.png
END:VEVENT
BEGIN:VEVENT
DTSTART;TZID=UTC:20250510T200000
DTEND;TZID=UTC:20250510T220000
DTSTAMP:20260422T172054
CREATED:20250501T115020Z
LAST-MODIFIED:20250501T115020Z
UID:13218-1746907200-1746914400@epsomandewelltimes.com
SUMMARY:Parachute Words live in Epsom with Wholesale
DESCRIPTION:LeMuguet/UCA present indie pop/rock bands Parachute Words and Wholesale\, live at Metropolis in the heart of Epsom\, for a special grassroots indie music show! \nJoin us on Saturday\, 10th May | Tickets available on Skiddle: https://www.skiddle.com/e/40837108
URL:https://epsomandewelltimes.com/event/parachute-words-live-in-epsom-with-wholesale
LOCATION:Metropolis Epsom\, 1 Derby Square\, Epsom\, KT19 8AG
END:VEVENT
BEGIN:VEVENT
DTSTART;TZID=UTC:20250514T193000
DTEND;TZID=UTC:20250517T223000
DTSTAMP:20260422T172054
CREATED:20250208T094131Z
LAST-MODIFIED:20250208T094131Z
UID:12318-1747251000-1747521000@epsomandewelltimes.com
SUMMARY:Everybody's Talking About Jamie presented by Sutton Theatre Company
DESCRIPTION:Inspired by a heart-warming true story\, this vibrant\, feel-good musical follows Jamie New\, a lad living on a council estate\, whose dream is to become a Drag Queen. This funny and fabulous coming of age musical\, will leave your heart full and everybody talking\, singing and dancing about Jamie!
URL:https://epsomandewelltimes.com/event/everybodys-talking-about-jamie-presented-by-sutton-theatre-company
LOCATION:The Epsom Playhouse\, Ashley Avenue\, Epsom\, Surrey\, United Kingdom
ATTACH;FMTTYPE=image/png:https://epsomandewelltimes.com/wp-content/uploads/2025/02/Instagram-Squares-7.png
END:VEVENT
BEGIN:VEVENT
DTSTART;TZID=UTC:20250517T190000
DTEND;TZID=UTC:20250517T220000
DTSTAMP:20260422T172054
CREATED:20250512T181703Z
LAST-MODIFIED:20250512T181703Z
UID:13327-1747508400-1747519200@epsomandewelltimes.com
SUMMARY:Epsom Male Voice Choir Annual Gala Concert
DESCRIPTION:On Saturday 17 May\, Epsom Male Voice Choir (EMVC) will hold its annual Gala Concert at St Martin of Tour Church in Epsom\, to be attended by the new Mayor\, Cllr Robert Leach. \nThis will be a special event for EMVC because the Musical Director\, Ian Assersohn\, who has directed the choir for 11 years is handing over to the new MD\, Jason Edge. \nThe concert starts at 7.30 PM. For tickets and more information\, see the website. \nEMVC has been singing for 42 years with its unique blend of entertaining and engaging performances of a wide range of music.
URL:https://epsomandewelltimes.com/event/epsom-male-voice-choir-annual-gala-concert
LOCATION:“St Martin of Tours Church House Church Street Epsom Surrey KT17 4PX”\, St Martin of Tours\, Church Street\, Epsom\, KT17 4PX\, United Kingdom
END:VEVENT
BEGIN:VEVENT
DTSTART;TZID=UTC:20250522T193000
DTEND;TZID=UTC:20250522T220000
DTSTAMP:20260422T172054
CREATED:20250510T115558Z
LAST-MODIFIED:20250512T181326Z
UID:13299-1747942200-1747951200@epsomandewelltimes.com
SUMMARY:Epsom Jazz Club
DESCRIPTION:22 May Karen Sharp and Nigel Price \nA quartet featuring two very established figures on the UK scene: Karen Sharp who plays both tenor and baritone saxophone\, and of course our own Nigel Price on guitar. Karen has won a number of British jazz awards for best tenor saxophonist and has played with some of the greats\, including Scott Hamilton\, Humphrey Lyttelton Alan Barnes and Johnny and Jacqui Dankworth. \n  \nLine-up: \nKaren Sharp – tenor (and possibly baritone) saxophone \nNigel Price – guitar \nJulian Bury – double bass \nTheo Hayhurst – drums
URL:https://epsomandewelltimes.com/event/epsom-jazz-club-5
LOCATION:Comrades Club\, The Parade\, Epsom\, Surrey\, KT18 5BT\, United Kingdom
CATEGORIES:music
END:VEVENT
BEGIN:VEVENT
DTSTART;TZID=UTC:20250523T190000
DTEND;TZID=UTC:20250523T223000
DTSTAMP:20260422T172054
CREATED:20250501T113850Z
LAST-MODIFIED:20250501T113955Z
UID:13208-1748026800-1748039400@epsomandewelltimes.com
SUMMARY:Epsom Rotary Club Quiz Night
DESCRIPTION:Further celebrating the 100 years of community service Epsom Rotary are holding a Quiz night with raffle – everyone welcome
URL:https://epsomandewelltimes.com/event/quiz-night-epsom-rotary-club
LOCATION:St Josephs\, St Margarets Drive\, Epsom\, Surrey\, KT18 7JQ\, United Kingdom
END:VEVENT
BEGIN:VEVENT
DTSTART;TZID=UTC:20250524T193000
DTEND;TZID=UTC:20250524T213000
DTSTAMP:20260422T172054
CREATED:20250428T043753Z
LAST-MODIFIED:20250428T043753Z
UID:13192-1748115000-1748122200@epsomandewelltimes.com
SUMMARY:Surrey Philharmonic Orchestra May Concert
DESCRIPTION:Join the Surrey Philharmonic Orchestra for a musical treat on Saturday 24th May at the Ashtead Peace Memorial Hall.\n\nBeethoven’s Egmont is both powerful & expressive\, while the Bruch violin concerto no. 1 offers soaring melodies combined with lush & passionate orchestral writing. The concerto\, with its notoriously difficult virtuoso passages for violin\, will be performed by our very own orchestral leader\, Joshua Hugo Von Bohlen.\n\nThe Gounod 2nd Symphony is an understated but tasteful piece which is both polished & a delight to listen to.
URL:https://epsomandewelltimes.com/event/surrey-philharmonic-orchestra-may-concert
LOCATION:Ashtead Peace Memorial Hall\, The Street\, Ashtead\, Surrey\, KT21 2BE\, United Kingdom
ATTACH;FMTTYPE=image/jpeg:https://epsomandewelltimes.com/wp-content/uploads/2025/04/JHvB-200H.jpg
END:VEVENT
BEGIN:VEVENT
DTSTART;TZID=UTC:20250528T143000
DTEND;TZID=UTC:20250528T160000
DTSTAMP:20260422T172054
CREATED:20250208T094935Z
LAST-MODIFIED:20250208T094935Z
UID:12326-1748442600-1748448000@epsomandewelltimes.com
SUMMARY:Pop Princesses
DESCRIPTION:A Magical show where beautiful Princesses become Pop Stars. They just love to sing! It’s the perfect mix! This is the children’s pop concert with a big difference. The four fabulous Fairy tale Princesses are back\, and this time they are on their first World Tour!
URL:https://epsomandewelltimes.com/event/pop-princesses
LOCATION:The Epsom Playhouse\, Ashley Avenue\, Epsom\, Surrey\, United Kingdom
ATTACH;FMTTYPE=image/png:https://epsomandewelltimes.com/wp-content/uploads/2025/02/PP-2025-Logo-without-plane.png
END:VEVENT
BEGIN:VEVENT
DTSTART;TZID=UTC:20250528T190000
DTEND;TZID=UTC:20250528T210000
DTSTAMP:20260422T172054
CREATED:20250522T182116Z
LAST-MODIFIED:20250522T182116Z
UID:13426-1748458800-1748466000@epsomandewelltimes.com
SUMMARY:EMEF Fundraising DInner\, Mimosa\, Ewell Village
DESCRIPTION:Fundraising Dinner at Mimoza\, 56-58 High Street\, Ewell Village on Wednesday 28th May at 7pm \nEpsom Medical Equipment Fund will be making a return visit by holding a fund-raising dinner on Wednesday\, 28th May at 7 p.m. at the Turkish restaurant MIMOZA 56-58 High Street\, Ewell\, Surrey\, KT17 1RW. It will be a two-course meal £25 each – menu available from Bess Harding on 0208 337 8181. Bookings and payment must be made in advance to Bess Harding. Why not come along and help raise money for medical equipment for Epsom General Hospital. Come along and meet new friends or bring a friend or partner with you. Bookings must be made before Friday\, 23rd May. If you have never had a Turkish meal do come along and try it for yourself.
URL:https://epsomandewelltimes.com/event/emef-fundraising-dinner-mimosa-ewell-village
LOCATION:Mimoza Restaurant\, 56-58 High Street\, Ewell Village\, Surrey\, KT17 1RW\, United Kingdom
ATTACH;FMTTYPE=image/jpeg:https://epsomandewelltimes.com/wp-content/uploads/2024/03/emef_logo.jpg
END:VEVENT
END:VCALENDAR