BEGIN:VCALENDAR
VERSION:2.0
PRODID:-//Epsom &amp; Ewell Times - ECPv6.15.20//NONSGML v1.0//EN
CALSCALE:GREGORIAN
METHOD:PUBLISH
X-WR-CALNAME:Epsom &amp; Ewell Times
X-ORIGINAL-URL:https://epsomandewelltimes.com
X-WR-CALDESC:Events for Epsom &amp; Ewell Times
REFRESH-INTERVAL;VALUE=DURATION:PT1H
X-Robots-Tag:noindex
X-PUBLISHED-TTL:PT1H
BEGIN:VTIMEZONE
TZID:UTC
BEGIN:STANDARD
TZOFFSETFROM:+0000
TZOFFSETTO:+0000
TZNAME:UTC
DTSTART:20240101T000000
END:STANDARD
END:VTIMEZONE
BEGIN:VEVENT
DTSTART;TZID=UTC:20250613T080000
DTEND;TZID=UTC:20250704T170000
DTSTAMP:20260424T155239
CREATED:20250619T062021Z
LAST-MODIFIED:20250619T062021Z
UID:13679-1749801600-1751648400@epsomandewelltimes.com
SUMMARY:Menuhin Hall Summer Festival
DESCRIPTION:Programme of Events \nSummer Solos\nFriday 13 June and Friday 20 June – Grounds open 5.30pm\, Concert at 6.30pm\nSunday 15 June and Sunday 22 June – Grounds open 1.30pm\, Concert at 2.30pm\nThis four-part series highlights the individual talents and musical progress of the Yehudi Menuhin School pupils. Audiences will hear a broad repertoire including Brahms’s Hungarian Dances\, Tchaikovsky’s Valse Scherzo\, Lutosławski’s Subito\, and Chen Gang’s Sunshine Over Tashkurgan. There will be a 60-minute interval for refreshments and picnicking in the beautiful school grounds. \nSeven Sayings: Triumph\nSaturday 28 June – Grounds open 4pm\, Concert at 5pm\nAn inspiring evening featuring Beethoven’s Symphony No. 5\, described by E.T.A. Hoffmann as “one of the most important works of the time”\, performed alongside Korngold’s Suite for Left Hand Piano and Strings Op. 23. \nFamily Day: Pictures at an Exhibition\nSunday 29 June – Activities and food from 1pm\, Family Concert at 3pm\nFamily Day offers a chance for children and their families to explore music in a playful and accessible way. The afternoon includes outdoor games\, arts and crafts\, and refreshments. A special interactive performance of Mussorgsky’s Pictures at an Exhibition\, led by broadcaster and pianist Keelan Carew and ten young pianists\, will take the audience on a journey through whimsical musical scenes\, from enchanted castles to Baba Yaga’s forest hut. The concert is particularly suitable for children aged 3 to 9\, though all are welcome. \nSpotlight Concert: Piano Gala\nTuesday 1 July – Concert at 7.30pm\nThe final Spotlight event of the year showcases the school’s finest young pianists performing a programme of Chopin\, Debussy\, Ravel\, Berg and Schubert. Highlights include Debussy’s Suite Bergamasque\, Ravel’s Sonatine\, and Chopin’s ballades\, recently featured in the Oscar-nominated film A Real Pain. \nLeavers’ Picnic\nWednesday 2 July – Grounds open 5pm\, Concert at 6.30pm\nThis special occasion marks the final performance by the school’s leavers. Works by Ravel\, Schumann\, Liszt and Kodály will be performed\, with a symbolic presentation of musical scores to those moving on. The evening includes a 60-minute interval for refreshments. \nSeven Sayings: Reunion – The Festival Finale\nFriday 4 July – Grounds open 5pm\, Concert at 6.30pm\nThe festival concludes with an emotionally powerful programme featuring James MacMillan’s Seven Last Words from the Cross\, performed by the Senior Orchestra\, Chamber Choir\, conductor Jonathan Bloxham\, and the award-winning vocal collective SANSARA. The second half includes Arvo Pärt’s Fratres and Tchaikovsky’s Serenade for Strings\, performed by current pupils and alumni. \nTicket Information\nTickets range from £10 to £28.50\, with half-price concessions for under-30s.\nTo book\, visit www.menuhinhall.co.uk or contact the Box Office on 01932 559400 / boxoffice@menuhinschool.co.uk.
URL:https://epsomandewelltimes.com/event/menuhin-hall-summer-festival
LOCATION:Menuhin Hall\, Cobham Road\, Stoke D'Abernon\, Surrey\, KT11 3QQ\, United Kingdom
ATTACH;FMTTYPE=image/png:https://epsomandewelltimes.com/wp-content/uploads/2025/06/Menuhin_Hall_Summer_Festival_2025_Page1.png
END:VEVENT
BEGIN:VEVENT
DTSTART;TZID=UTC:20250705T163000
DTEND;TZID=UTC:20250705T173000
DTSTAMP:20260424T155239
CREATED:20250527T043254Z
LAST-MODIFIED:20250527T122203Z
UID:13439-1751733000-1751736600@epsomandewelltimes.com
SUMMARY:The enchanting music of Ravel
DESCRIPTION:Join Gisela Meyer as she brings to life the timeless compositions of Maurice Ravel in a free concert celebrating the 150th anniversary of his birth. With her exceptional talent on piano and voice\, Gisela will guide you through a delightful programme featuring beloved works such as the shimmering “Jeux d’eau\,” the evocative “Miroirs\,” and the iconic “Bolero” in an extraordinary piano arrangement. Don’t miss this unique tribute to one of classical music’s 20th masters. Admission Free. Donations welcome.
URL:https://epsomandewelltimes.com/event/the-enchanting-music-of-ravel
LOCATION:St Martin’s Church\, Church Street\, Epsom\, Surrey\, KT17 4PX
ATTACH;FMTTYPE=image/jpeg:https://epsomandewelltimes.com/wp-content/uploads/2025/05/Gisela-Meyer.jpg
END:VEVENT
BEGIN:VEVENT
DTSTART;TZID=UTC:20250730T190000
DTEND;TZID=UTC:20250730T210000
DTSTAMP:20260424T155239
CREATED:20250703T052735Z
LAST-MODIFIED:20250703T052735Z
UID:13828-1753902000-1753909200@epsomandewelltimes.com
SUMMARY:Fund Raising Dinner at La Familia
DESCRIPTION:Fund Raising Dinner at La Familia Restaurant\, 67-69 High Street\, Ewell\, Surrey\, KT17 1RX at 7pm on Wednesday 30th July 2025 \nOur July fundraising dinner will be held in aid of Epsom Medical Equipment Fund at La Familia Restaurant on Wednesday\, 30th July at 7 p.m. \nIt will be for a 3-course meal at £25 per person. Drinks are not included in this price but are available for guests to purchase. Please contact Bess Harding on 0208 337 8181 if you wish to attend. Bookings must be made and paid for in advance. . Do come and join us and help us raise £74\,000.00 for a special camera for eye problems for Epsom General Hospital.. It could help prevent blindness Eyes are precious so is sight!.
URL:https://epsomandewelltimes.com/event/fund-raising-dinner-at-la-familia
LOCATION:La Familia Restaurant\, 67-69 High Street\, Ewell\, Surrey\, KT17 1RX\, United Kingdom
ATTACH;FMTTYPE=image/jpeg:https://epsomandewelltimes.com/wp-content/uploads/2024/03/emef_logo.jpg
END:VEVENT
END:VCALENDAR